BEGIN:VCALENDAR
VERSION:2.0
PRODID:-//Azarian Gymnastics - ECPv6.15.17.1//NONSGML v1.0//EN
CALSCALE:GREGORIAN
METHOD:PUBLISH
X-WR-CALNAME:Azarian Gymnastics
X-ORIGINAL-URL:https://www.azariangymnastics.com
X-WR-CALDESC:Events for Azarian Gymnastics
REFRESH-INTERVAL;VALUE=DURATION:PT1H
X-Robots-Tag:noindex
X-PUBLISHED-TTL:PT1H
BEGIN:VTIMEZONE
TZID:America/Los_Angeles
BEGIN:DAYLIGHT
TZOFFSETFROM:-0800
TZOFFSETTO:-0700
TZNAME:PDT
DTSTART:20240310T100000
END:DAYLIGHT
BEGIN:STANDARD
TZOFFSETFROM:-0700
TZOFFSETTO:-0800
TZNAME:PST
DTSTART:20241103T090000
END:STANDARD
BEGIN:DAYLIGHT
TZOFFSETFROM:-0800
TZOFFSETTO:-0700
TZNAME:PDT
DTSTART:20250309T100000
END:DAYLIGHT
BEGIN:STANDARD
TZOFFSETFROM:-0700
TZOFFSETTO:-0800
TZNAME:PST
DTSTART:20251102T090000
END:STANDARD
BEGIN:DAYLIGHT
TZOFFSETFROM:-0800
TZOFFSETTO:-0700
TZNAME:PDT
DTSTART:20260308T100000
END:DAYLIGHT
BEGIN:STANDARD
TZOFFSETFROM:-0700
TZOFFSETTO:-0800
TZNAME:PST
DTSTART:20261101T090000
END:STANDARD
END:VTIMEZONE
BEGIN:VTIMEZONE
TZID:UTC
BEGIN:STANDARD
TZOFFSETFROM:+0000
TZOFFSETTO:+0000
TZNAME:UTC
DTSTART:20240101T000000
END:STANDARD
END:VTIMEZONE
BEGIN:VEVENT
DTSTART;TZID=America/Los_Angeles:20250405T170000
DTEND;TZID=America/Los_Angeles:20250405T210000
DTSTAMP:20260423T141353
CREATED:20250321T225742Z
LAST-MODIFIED:20250322T002210Z
UID:10000437-1743872400-1743886800@www.azariangymnastics.com
SUMMARY:Swing into Spring Kidzone!
DESCRIPTION:Event Name: ‘Swing into Spring’ Kidzone\nDate: April 5th\, 2025\nLocation: Azarian Gymnastics \nGet ready to swing into spring at Azarian Gymnastics! Our Kidzone event is packed with fun activities that will keep your little ones entertained and active. From spring-themed crafts to exciting games\, there’s something for every child to enjoy. \nYour kids will leap into action with our ‘Stick It\, the SPRINGboard edition’ challenge\, where they can showcase their skills and earn prizes. Plus\, our supervised open gym offers a safe space for them to explore and play\, ensuring a memorable experience filled with laughter and joy. \nAnd what’s a fun night without delicious food? They will enjoy tasty pizza while they make new friends and create lasting memories. Don’t miss out on this fantastic opportunity to celebrate spring with us—sign up today and let the fun begin! \nActivities on the night include;\n* Spring Themed Craft\n* ‘Stick It\, the SPRINGboard edition\n* Supervised Open Gym\n* Games & Prizes\n* Pizza\nand more…… \nSpaces are limited\, so be sure to reserve your child’s spot & don’t miss out on a night of laughter\, creativity\, and plenty of festive fun! \nages 3.5yrs to 12yrs (must be fully potty trained) \nMembers $45\nNon Members $50 \nWe are excited to now offer ‘online sign ups’ for Kidzone.\nYou can also call (949) 455-1020 for reservations. \nWe do accept same day sign ups (providing event is not sold out) but please note that there are no discounts available on the night.\nBooking on arrival price is $55 cash.\nBook early to utilize discounts and get the best price! \nIf new\, please fill out the Kidzone Waiver form and bring it with you the night of the event.
URL:https://www.azariangymnastics.com/event/swing-into-spring-kidzone/
LOCATION:Azarian Gym\, 1 ARGONAUT\, ALISO VIEJO\, CA\, 92656-4122\, United States
GEO:33.5943737;-117.7257309
X-APPLE-STRUCTURED-LOCATION;VALUE=URI;X-ADDRESS=Azarian Gym 1 ARGONAUT ALISO VIEJO CA 92656-4122 United States;X-APPLE-RADIUS=500;X-TITLE=1 ARGONAUT:geo:-117.7257309,33.5943737
END:VEVENT
BEGIN:VEVENT
DTSTART;VALUE=DATE:20250407
DTEND;VALUE=DATE:20250413
DTSTAMP:20260423T141353
CREATED:20240123T024006Z
LAST-MODIFIED:20250125T063835Z
UID:10000416-1743984000-1744502399@www.azariangymnastics.com
SUMMARY:Closed for Spring Break
DESCRIPTION:All Recreational and Preschool classes are closed this week for Spring Break.
URL:https://www.azariangymnastics.com/event/closed-for-spring-break-2/
LOCATION:CA
END:VEVENT
BEGIN:VEVENT
DTSTART;TZID=America/Los_Angeles:20250419T170000
DTEND;TZID=America/Los_Angeles:20250419T210000
DTSTAMP:20260423T141353
CREATED:20250322T002517Z
LAST-MODIFIED:20250419T061131Z
UID:10000438-1745082000-1745096400@www.azariangymnastics.com
SUMMARY:Easter Kidzone
DESCRIPTION:Event Name: ‘Easter’ Kidzone\nDate: April 19th\, 2025\nLocation: Azarian Gymnastics \nHop into the fun this Easter at Azarian Gymnastics with our exciting Easter Kidzone on Saturday\, April 19th! This is the perfect opportunity for kids to enjoy a day filled with laughter\, creativity\, and adventure. Don’t miss out on the chance to participate in our EGG-cellent Egg Hunt\, where participants can search for hidden treasures and enjoy the thrill of discovery. \nGet ready to unleash your creativity as kids design and decorate their very own eggs! With open gym time\, games\, and prizes\, there’s something for everyone to enjoy. Plus\, we’ll keep the energy high with delicious pizza to fuel all the fun activities. It’s a day packed with excitement that your kids won’t want to miss! \nSo\, quit yolking around and mark your calendars for a day of unforgettable memories at Azarian Gymnastics. Join us for an Easter celebration that promises to be egg-stra special! Reserve your spot today and let the festivities begin! \nActivities on the night include; \n* The Azarian EGG-cellent Egg Hunt!\n* Design & Decorate an egg\n* Open Gym\n* Games & Prizes\n* Pizza\nand more…… \nSpaces are limited\, so be sure to reserve your child’s spot & don’t miss out on a night of laughter\, creativity\, and plenty of festive fun! \nages 3.5yrs to 12yrs (must be fully potty trained) \nMembers $45\nNon Members $50 \nWe are excited to now offer ‘online sign ups’ for Kidzone.\nYou can also call (949) 455-1020 for reservations. \nWe do accept same day sign ups (providing event is not sold out) but please note that there are no discounts available on the night.\nBooking on arrival price is $55 cash.\nBook early to utilize discounts and get the best price! \nIf new\, please fill out the Kidzone Waiver form and bring it with you the night of the event.
URL:https://www.azariangymnastics.com/event/easter-kidzone/
LOCATION:Azarian Gym\, 1 ARGONAUT\, ALISO VIEJO\, CA\, 92656-4122\, United States
GEO:33.5943737;-117.7257309
X-APPLE-STRUCTURED-LOCATION;VALUE=URI;X-ADDRESS=Azarian Gym 1 ARGONAUT ALISO VIEJO CA 92656-4122 United States;X-APPLE-RADIUS=500;X-TITLE=1 ARGONAUT:geo:-117.7257309,33.5943737
END:VEVENT
END:VCALENDAR